BEGIN:VCALENDAR
PRODID:-//eluceo/ical//2.0/EN
VERSION:2.0
CALSCALE:GREGORIAN
BEGIN:VEVENT
UID:a95f001a3ae3bd1161d6ede88aff8af7
DTSTAMP:20260423T123239Z
SUMMARY:Statutory meeting -  Role of Basic Science and STEM education for S
 ustainable Development
DESCRIPTION:Website: https://geneva.intercontinental.com\nSprekers: Barbora
  Bruant Gulejova\, Strategic Development Lead of International Particle Ph
 ysics Outreach Group  
URL:https://rc-geneve-international.org/nl/agenda/show/155357
DTSTART;TZID=Europe/Zurich:20230209T190000
DTEND;TZID=Europe/Zurich:20230209T210000
LOCATION:InterContinental Hotel Geneva\, Chemin du Petit-Saconnex 7-9\, 121
 1 Genève
CATEGORIES:Rotary
END:VEVENT
BEGIN:VTIMEZONE
TZID:Europe/Zurich
BEGIN:STANDARD
DTSTART:20230209T190000
TZNAME:CET
TZOFFSETTO:+0100
TZOFFSETFROM:+0100
END:STANDARD
END:VTIMEZONE
END:VCALENDAR
