BEGIN:VCALENDAR
PRODID:-//eluceo/ical//2.0/EN
VERSION:2.0
CALSCALE:GREGORIAN
BEGIN:VEVENT
UID:32e70d798568a234773d3cb1a44cee46
DTSTAMP:20260423T105529Z
SUMMARY:Statutory meeting - Presentation on Vision and Art
DESCRIPTION:Website: https://geneva.intercontinental.com\nSprekers: Christi
 an Jonescu-C.\, club member
URL:https://rc-geneve-international.org/nl/agenda/show/154880
DTSTART;TZID=Europe/Zurich:20230202T190000
DTEND;TZID=Europe/Zurich:20230202T210000
LOCATION:InterContinental Hotel Geneva\, Chemin du Petit-Saconnex 7-9\, 121
 1 Genève
CATEGORIES:Rotary
END:VEVENT
BEGIN:VTIMEZONE
TZID:Europe/Zurich
BEGIN:STANDARD
DTSTART:20230202T190000
TZNAME:CET
TZOFFSETTO:+0100
TZOFFSETFROM:+0100
END:STANDARD
END:VTIMEZONE
END:VCALENDAR
