BEGIN:VCALENDAR
PRODID:-//eluceo/ical//2.0/EN
VERSION:2.0
CALSCALE:GREGORIAN
BEGIN:VEVENT
UID:4bc050a3f0b2dc170882345d41578608
DTSTAMP:20260421T154504Z
SUMMARY:Statutory meeting - Induction ceremony of new members + Update on W
 orld Polio day
DESCRIPTION:Website: https://geneva.intercontinental.com\nSprekers: 
URL:https://rc-geneve-international.org/nl/agenda/show/151704
DTSTART;TZID=Europe/Zurich:20230112T190000
DTEND;TZID=Europe/Zurich:20230112T210000
LOCATION:InterContinental Hotel Geneva\, Chemin du Petit-Saconnex 7-9\, 121
 1 Genève
CATEGORIES:Rotary
END:VEVENT
BEGIN:VTIMEZONE
TZID:Europe/Zurich
BEGIN:STANDARD
DTSTART:20230112T190000
TZNAME:CET
TZOFFSETTO:+0100
TZOFFSETFROM:+0100
END:STANDARD
END:VTIMEZONE
END:VCALENDAR
