BEGIN:VCALENDAR
PRODID:-//eluceo/ical//2.0/EN
VERSION:2.0
CALSCALE:GREGORIAN
BEGIN:VEVENT
UID:9253cf78952d1c7d16a2f0785c208bb2
DTSTAMP:20260420T091424Z
SUMMARY:Statutory Meeting
DESCRIPTION:We will be pleased to have a professional presentation by our 
 Club member Mr. Gavin Taylor.\n\nMr. Taylor is a partner at MVT Archite
 cts\, where he brings substantial experience in the field of architecture
  since studying at the University of Edinburgh. \n\nWe look forward to se
 eing you and learning more about the career of Mr. Taylor.\nMenu: Please s
 pecify any dietary restrictions (such as vegetarian\, gluten free\, no alc
 ohol\, etc.) in the Commentary box.\nConférencier(s): Gavin Taylor
URL:https://rc-geneve-international.org/fr/agenda/show/89145
DTSTART;TZID=Europe/Zurich:20190328T183000
DTEND;TZID=Europe/Zurich:20190328T213000
LOCATION:InterContinental Hotel Geneva
CATEGORIES:Rotary
END:VEVENT
BEGIN:VTIMEZONE
TZID:Europe/Zurich
BEGIN:STANDARD
DTSTART:20190328T183000
TZNAME:CET
TZOFFSETTO:+0100
TZOFFSETFROM:+0100
END:STANDARD
END:VTIMEZONE
END:VCALENDAR
