BEGIN:VCALENDAR
PRODID:-//eluceo/ical//2.0/EN
VERSION:2.0
CALSCALE:GREGORIAN
BEGIN:VEVENT
UID:bd761dc016d7a538d620eb9b2f50203d
DTSTAMP:20260423T180613Z
SUMMARY:Who is this guy called Isaac Casaubon?
DESCRIPTION:We will be pleased to have a presentation by Mr. André Hurst\
 , a Hellenist\, professor\, and former Rector of the University of Geneva.
 \n\nMr. Hurst is the author of books and articles mainly covering the doma
 ins of Greek Epics and ancient theatre\; he has also been involved in the 
 editions of papyri. This evening he will present on who was Isaac Casaubon
  (1559-1614)\, the only Genevese whose tomb is to be found in Westminster 
 Abbey. \n\nWe look forward to seeing you. \nMenu: Please specify any die
 tary restrictions (such as vegetarian\, gluten free\, no alcohol\, etc.) i
 n the Commentary box.\nSpeaker(s): André Hurst
URL:https://rc-geneve-international.org/en/agenda/show/89141
DTSTART;TZID=Europe/Zurich:20190228T183000
DTEND;TZID=Europe/Zurich:20190228T213000
LOCATION:InterContinental Hotel Geneva
CATEGORIES:Rotary
END:VEVENT
BEGIN:VTIMEZONE
TZID:Europe/Zurich
BEGIN:STANDARD
DTSTART:20190228T183000
TZNAME:CET
TZOFFSETTO:+0100
TZOFFSETFROM:+0100
END:STANDARD
END:VTIMEZONE
END:VCALENDAR
