BEGIN:VCALENDAR
PRODID:-//eluceo/ical//2.0/EN
VERSION:2.0
CALSCALE:GREGORIAN
BEGIN:VEVENT
UID:f2f27127142481f5037d6676a0f74b74
DTSTAMP:20260419T140024Z
SUMMARY:ROTARY GENÈVE INTERNATIONAL PUBLIC LECTURE:  Cyber Violence Agains
 t Women & Girls: A Worldwide Wake-Up Call
DESCRIPTION:Rotary is proud to host the first presentation in Geneva of a s
 tudy on safety and security online for women and girls.\n\nThe study is un
 dertaken by the Working Group on Gender of the United Nations’ Broadband
  Commission for Sustainable Development (the Commission was set up in 2010
 \, and has as members international CEO and industry leaders\, government 
 representatives\, international agencies\, academia and development organi
 zations).\n\nThe lecture will be in English\, the Q&A segment will be in E
 nglish and French.\n\nDrinks and light snacks will be offered.\n\n \n\nVe
 nue: Hotel Intercontinental\, Room Moscow (1st Floor)\n\nChemin du Petit-S
 aconnex 7\, 1209 Genève\n\n \n\nAttendance is free of charge\, REGISTRAT
 ION IS REQUIRED.\nSpeaker(s): Ms. Doreen Bogdan-Martin\,  ITU
URL:https://rc-geneve-international.org/en/agenda/show/57381
DTSTART;TZID=Europe/Zurich:20151210T173000
DTEND;TZID=Europe/Zurich:20151210T193000
LOCATION:Hotel Intercontinental
CATEGORIES:Rotary
END:VEVENT
BEGIN:VTIMEZONE
TZID:Europe/Zurich
BEGIN:STANDARD
DTSTART:20151210T173000
TZNAME:CET
TZOFFSETTO:+0100
TZOFFSETFROM:+0100
END:STANDARD
END:VTIMEZONE
END:VCALENDAR
