BEGIN:VCALENDAR
PRODID:-//eluceo/ical//2.0/EN
VERSION:2.0
CALSCALE:GREGORIAN
BEGIN:VEVENT
UID:0d57f4c03b32aea0eaaa2312c3da66d5
DTSTAMP:20260422T132440Z
SUMMARY:Street kids project + RAC District meeting (Online only)
DESCRIPTION:Website: https://www.canva.com/design/DAE3PDvXnMg/SOit0FjLEwzUa
 XxFJ971qQ/view?website#2\nSpeaker(s): RAC D 9212 - RAC D 1990 officers and
  street kidsOnline meetinghttp://meet.google.com/qbh-akqe-pkc
URL:https://rotary1990.ch/en/agenda/show/139633
DTSTART;TZID=Europe/Zurich:20220226T095000
DTEND;TZID=Europe/Zurich:20220226T120000
LOCATION:http://meet.google.com/qbh-akqe-pkc
CATEGORIES:Rotary
END:VEVENT
BEGIN:VTIMEZONE
TZID:Europe/Zurich
BEGIN:STANDARD
DTSTART:20220226T095000
TZNAME:CET
TZOFFSETTO:+0100
TZOFFSETFROM:+0100
END:STANDARD
END:VTIMEZONE
END:VCALENDAR
